BEGIN:VCALENDAR
VERSION:2.0
PRODID:-//U Bejka - ECPv6.15.17.1//NONSGML v1.0//EN
CALSCALE:GREGORIAN
METHOD:PUBLISH
X-ORIGINAL-URL:https://ubejka.cz
X-WR-CALDESC:Akce na U Bejka
REFRESH-INTERVAL;VALUE=DURATION:PT1H
X-Robots-Tag:noindex
X-PUBLISHED-TTL:PT1H
BEGIN:VTIMEZONE
TZID:UTC
BEGIN:STANDARD
TZOFFSETFROM:+0000
TZOFFSETTO:+0000
TZNAME:UTC
DTSTART:20250101T000000
END:STANDARD
END:VTIMEZONE
BEGIN:VEVENT
DTSTART;TZID=UTC:20260306T000000
DTEND;TZID=UTC:20260306T235959
DTSTAMP:20260421T002629
CREATED:20230112T095325Z
LAST-MODIFIED:20260205T115542Z
UID:1655-1772755200-1772841599@ubejka.cz
SUMMARY:Mimofchodem
DESCRIPTION:Naše kapelka vznikla v roce 2006. Hrajem převážně country\, blues a folk rock na svoje živě nahrané podkladyU Bejka od 19.00 hodin.
URL:https://ubejka.cz/akce/mimofchodem-3-2/
LOCATION:Restaurace / Bar U Bejka\, Linecká 41\, Český Krumlov\, Česká republika
CATEGORIES:Akce 2025 / 2026
ATTACH;FMTTYPE=image/jpeg:https://ubejka.cz/wp-content/uploads/2022/09/mimofchodem.jpg
ORGANIZER;CN="Zbyn%C4%9Bk Doubek":MAILTO:ubejka@email.cz
END:VEVENT
END:VCALENDAR