BEGIN:VCALENDAR
VERSION:2.0
PRODID:-//U Bejka - ECPv6.15.17.1//NONSGML v1.0//EN
CALSCALE:GREGORIAN
METHOD:PUBLISH
X-ORIGINAL-URL:https://ubejka.cz
X-WR-CALDESC:Akce na U Bejka
REFRESH-INTERVAL;VALUE=DURATION:PT1H
X-Robots-Tag:noindex
X-PUBLISHED-TTL:PT1H
BEGIN:VTIMEZONE
TZID:UTC
BEGIN:STANDARD
TZOFFSETFROM:+0000
TZOFFSETTO:+0000
TZNAME:UTC
DTSTART:20250101T000000
END:STANDARD
END:VTIMEZONE
BEGIN:VEVENT
DTSTART;TZID=UTC:20260320T190000
DTEND;TZID=UTC:20260320T220000
DTSTAMP:20260421T003050
CREATED:20220928T124022Z
LAST-MODIFIED:20260217T090459Z
UID:1653-1774033200-1774044000@ubejka.cz
SUMMARY:Akustix
DESCRIPTION:AkustiX je muzikantská dvojice z Českých Budějovic\, založená zpěvačkou Markétou Vejdovcovou a kytaristou Michalem Domínem. Hrajeme převážně covery současných umělců\, které si upravujeme do akustické podoby. Ctíme však originální verze všech písní.  Zahrají u nás v hospůdce od 19.00 hodin.
URL:https://ubejka.cz/akce/akustix-3/
LOCATION:Restaurace / Bar U Bejka\, Linecká 41\, Český Krumlov\, Česká republika
CATEGORIES:Akce 2025 / 2026
ATTACH;FMTTYPE=image/jpeg:https://ubejka.cz/wp-content/uploads/2017/10/903E4014-F57D-4BAE-B552-3CD9D33A608F.jpeg
ORGANIZER;CN="Zbyn%C4%9Bk Doubek":MAILTO:ubejka@email.cz
END:VEVENT
END:VCALENDAR