BEGIN:VCALENDAR
VERSION:2.0
PRODID:-//U Bejka - ECPv6.15.17.1//NONSGML v1.0//EN
CALSCALE:GREGORIAN
METHOD:PUBLISH
X-ORIGINAL-URL:https://ubejka.cz
X-WR-CALDESC:Akce na U Bejka
REFRESH-INTERVAL;VALUE=DURATION:PT1H
X-Robots-Tag:noindex
X-PUBLISHED-TTL:PT1H
BEGIN:VTIMEZONE
TZID:UTC
BEGIN:STANDARD
TZOFFSETFROM:+0000
TZOFFSETTO:+0000
TZNAME:UTC
DTSTART:20220101T000000
END:STANDARD
END:VTIMEZONE
BEGIN:VEVENT
DTSTART;TZID=UTC:20240224T000000
DTEND;TZID=UTC:20240224T235959
DTSTAMP:20260421T044147
CREATED:20220928T134414Z
LAST-MODIFIED:20231025T075649Z
UID:1579-1708732800-1708819199@ubejka.cz
SUMMARY:Akustix
DESCRIPTION:AkustiX je muzikantská dvojice z Českých Budějovic\, založená zpěvačkou Markétou Vejdovcovou a kytaristou Michalem Domínem. Hrajeme převážně covery současných umělců\, které si upravujeme do akustické podoby. Ctíme však originální verze všech písní.  Zahrají u nás v hospůdce od 19.00 hodin.
URL:https://ubejka.cz/akce/akustix/
LOCATION:Restaurace / Bar U Bejka\, Linecká 41\, Český Krumlov\, Česká republika
CATEGORIES:Akce 2023 / 2024
ATTACH;FMTTYPE=image/jpeg:https://ubejka.cz/wp-content/uploads/2017/10/903E4014-F57D-4BAE-B552-3CD9D33A608F.jpeg
ORGANIZER;CN="Zbyn%C4%9Bk Doubek":MAILTO:ubejka@email.cz
END:VEVENT
BEGIN:VEVENT
DTSTART;TZID=UTC:20240203T000000
DTEND;TZID=UTC:20240203T235959
DTSTAMP:20260421T044147
CREATED:20220928T132717Z
LAST-MODIFIED:20231025T075519Z
UID:1454-1706918400-1707004799@ubejka.cz
SUMMARY:Kocourovo Kartáč
DESCRIPTION:Hudební skupina Kocourovo Kartáč je schopna vám zpestřit svoji produkcí prakticky jakoukoliv akci\, od firemních večírků přes klasické zábavy až po svatby. Nevyhýbáme se ani maturitním plesům či libovolným druhům oslav. Máme široké hudební spektrum\, od country\, folku přes pop\, latinu až po rock\, takže na své si přijde prakticky každý. Tentokrát opět U Bejka od 19.00 hodin.
URL:https://ubejka.cz/akce/kocourovo-kartac-3/
LOCATION:Restaurace / Bar U Bejka\, Linecká 41\, Český Krumlov\, Česká republika
CATEGORIES:Akce 2023 / 2024
ATTACH;FMTTYPE=image/jpeg:https://ubejka.cz/wp-content/uploads/2022/02/kocourovo-kartac.jpg
ORGANIZER;CN="Zbyn%C4%9Bk Doubek":MAILTO:ubejka@email.cz
END:VEVENT
BEGIN:VEVENT
DTSTART;TZID=UTC:20240120T000000
DTEND;TZID=UTC:20240120T235959
DTSTAMP:20260421T044147
CREATED:20220928T132834Z
LAST-MODIFIED:20231025T075352Z
UID:1502-1705708800-1705795199@ubejka.cz
SUMMARY:Hans Looper Trans
DESCRIPTION:Hans Looper Trans – známé rockové taneční hity české a zahraniční\, one man show Honzy Politzera s nástroji a looperem. U Bejka od 19.00 hodin.
URL:https://ubejka.cz/akce/hans-looper-trans-2/
LOCATION:Restaurace / Bar U Bejka\, Linecká 41\, Český Krumlov\, Česká republika
CATEGORIES:Akce 2023 / 2024
ATTACH;FMTTYPE=image/jpeg:https://ubejka.cz/wp-content/uploads/2017/10/FBA035B4-ACBA-4AAC-8B96-370696E4E2AB.jpeg
ORGANIZER;CN="Zbyn%C4%9Bk Doubek":MAILTO:ubejka@email.cz
END:VEVENT
BEGIN:VEVENT
DTSTART;TZID=UTC:20240113T000000
DTEND;TZID=UTC:20240113T235959
DTSTAMP:20260421T044147
CREATED:20220929T062006Z
LAST-MODIFIED:20231025T075314Z
UID:1436-1705104000-1705190399@ubejka.cz
SUMMARY:Kocourovo Kartáč
DESCRIPTION:Hudební skupina Kocourovo Kartáč je schopna vám zpestřit svoji produkcí prakticky jakoukoliv akci\, od firemních večírků přes klasické zábavy až po svatby. Nevyhýbáme se ani maturitním plesům či libovolným druhům oslav. Máme široké hudební spektrum\, od country\, folku přes pop\, latinu až po rock\, takže na své si přijde prakticky každý. Tentokrát opět U Bejka od 19.00 hodin.
URL:https://ubejka.cz/akce/kocourovo-kartac-2/
LOCATION:Restaurace / Bar U Bejka\, Linecká 41\, Český Krumlov\, Česká republika
CATEGORIES:Akce 2023 / 2024
ATTACH;FMTTYPE=image/jpeg:https://ubejka.cz/wp-content/uploads/2022/02/kocourovo-kartac.jpg
ORGANIZER;CN="Zbyn%C4%9Bk Doubek":MAILTO:ubejka@email.cz
END:VEVENT
BEGIN:VEVENT
DTSTART;TZID=UTC:20240106T000000
DTEND;TZID=UTC:20240106T235959
DTSTAMP:20260421T044147
CREATED:20230112T095325Z
LAST-MODIFIED:20231025T075215Z
UID:1644-1704499200-1704585599@ubejka.cz
SUMMARY:Mimofchodem
DESCRIPTION:Naše kapelka vznikla v roce 2006. Hrajem převážně country\, blues a folk rock na svoje živě nahrané podkladyU Bejka od 19.00 hodin.
URL:https://ubejka.cz/akce/mimofchodem-2-2/
LOCATION:Restaurace / Bar U Bejka\, Linecká 41\, Český Krumlov\, Česká republika
CATEGORIES:Akce 2023 / 2024
ATTACH;FMTTYPE=image/jpeg:https://ubejka.cz/wp-content/uploads/2022/09/mimofchodem.jpg
ORGANIZER;CN="Zbyn%C4%9Bk Doubek":MAILTO:ubejka@email.cz
END:VEVENT
BEGIN:VEVENT
DTSTART;TZID=UTC:20231209T000000
DTEND;TZID=UTC:20231209T235959
DTSTAMP:20260421T044147
CREATED:20220929T061114Z
LAST-MODIFIED:20231025T073719Z
UID:247-1702080000-1702166399@ubejka.cz
SUMMARY:Zlatý skořápky
DESCRIPTION:Jsme hudební skupina se zaměřením na folk\, country a všechny žánry co se nám i vám líbí. Začínáme v 19.00 hodin.
URL:https://ubejka.cz/akce/zlaty-skorapky/
LOCATION:Restaurace / Bar U Bejka\, Linecká 41\, Český Krumlov\, Česká republika
CATEGORIES:Akce 2023 / 2024
ATTACH;FMTTYPE=image/jpeg:https://ubejka.cz/wp-content/uploads/2022/02/zlaty-skorapky.jpg
ORGANIZER;CN="Zbyn%C4%9Bk Doubek":MAILTO:ubejka@email.cz
END:VEVENT
BEGIN:VEVENT
DTSTART;TZID=UTC:20231125T000000
DTEND;TZID=UTC:20231125T235959
DTSTAMP:20260421T044147
CREATED:20230112T095325Z
LAST-MODIFIED:20231025T074155Z
UID:1642-1700870400-1700956799@ubejka.cz
SUMMARY:Mimofchodem
DESCRIPTION:Naše kapelka vznikla v roce 2006. Hrajem převážně country\, blues a folk rock na svoje živě nahrané podkladyU Bejka od 19.00 hodin.
URL:https://ubejka.cz/akce/mimofchodem-2/
LOCATION:Restaurace / Bar U Bejka\, Linecká 41\, Český Krumlov\, Česká republika
CATEGORIES:Akce 2023 / 2024
ATTACH;FMTTYPE=image/jpeg:https://ubejka.cz/wp-content/uploads/2022/09/mimofchodem.jpg
ORGANIZER;CN="Zbyn%C4%9Bk Doubek":MAILTO:ubejka@email.cz
END:VEVENT
BEGIN:VEVENT
DTSTART;TZID=UTC:20231117T230000
DTEND;TZID=UTC:20231118T225959
DTSTAMP:20260421T044147
CREATED:20220928T124022Z
LAST-MODIFIED:20231115T083031Z
UID:242-1700262000-1700348399@ubejka.cz
SUMMARY:Akustix
DESCRIPTION:AkustiX je muzikantská dvojice z Českých Budějovic\, založená zpěvačkou Markétou Vejdovcovou a kytaristou Michalem Domínem. Hrajeme převážně covery současných umělců\, které si upravujeme do akustické podoby. Ctíme však originální verze všech písní.  Zahrají u nás v hospůdce od 19.00 hodin.
URL:https://ubejka.cz/akce/jamal-band/
LOCATION:Restaurace / Bar U Bejka\, Linecká 41\, Český Krumlov\, Česká republika
CATEGORIES:Akce 2023 / 2024
ATTACH;FMTTYPE=image/jpeg:https://ubejka.cz/wp-content/uploads/2017/10/903E4014-F57D-4BAE-B552-3CD9D33A608F.jpeg
ORGANIZER;CN="Zbyn%C4%9Bk Doubek":MAILTO:ubejka@email.cz
END:VEVENT
BEGIN:VEVENT
DTSTART;TZID=UTC:20231111T000000
DTEND;TZID=UTC:20231111T235959
DTSTAMP:20260421T044147
CREATED:20171017T090009Z
LAST-MODIFIED:20231025T071545Z
UID:250-1699660800-1699747199@ubejka.cz
SUMMARY:Kocourovo Kartáč
DESCRIPTION:Hudební skupina Kocourovo Kartáč je schopna vám zpestřit svoji produkcí prakticky jakoukoliv akci\, od firemních večírků přes klasické zábavy až po svatby. Nevyhýbáme se ani maturitním plesům či libovolným druhům oslav. Máme široké hudební spektrum\, od country\, folku přes pop\, latinu až po rock\, takže na své si přijde prakticky každý. Tentokrát opět U Bejka od 19.00 hodin.
URL:https://ubejka.cz/akce/kocourovo-kartac/
LOCATION:Restaurace / Bar U Bejka\, Linecká 41\, Český Krumlov\, Česká republika
CATEGORIES:Akce 2023 / 2024
ATTACH;FMTTYPE=image/jpeg:https://ubejka.cz/wp-content/uploads/2022/02/kocourovo-kartac.jpg
ORGANIZER;CN="Zbyn%C4%9Bk Doubek":MAILTO:ubejka@email.cz
END:VEVENT
BEGIN:VEVENT
DTSTART;TZID=UTC:20231103T000000
DTEND;TZID=UTC:20231103T235959
DTSTAMP:20260421T044147
CREATED:20230112T095325Z
LAST-MODIFIED:20231025T071155Z
UID:1442-1698969600-1699055999@ubejka.cz
SUMMARY:Mimofchodem
DESCRIPTION:Naše kapelka vznikla v roce 2006. Hrajem převážně country\, blues a folk rock na svoje živě nahrané podkladyU Bejka od 19.00 hodin.
URL:https://ubejka.cz/akce/mimofchodem/
LOCATION:Restaurace / Bar U Bejka\, Linecká 41\, Český Krumlov\, Česká republika
CATEGORIES:Akce 2023 / 2024
ATTACH;FMTTYPE=image/jpeg:https://ubejka.cz/wp-content/uploads/2022/09/mimofchodem.jpg
ORGANIZER;CN="Zbyn%C4%9Bk Doubek":MAILTO:ubejka@email.cz
END:VEVENT
END:VCALENDAR