BEGIN:VCALENDAR
VERSION:2.0
PRODID:-//U Bejka - ECPv6.15.17.1//NONSGML v1.0//EN
CALSCALE:GREGORIAN
METHOD:PUBLISH
X-ORIGINAL-URL:https://ubejka.cz
X-WR-CALDESC:Akce na U Bejka
REFRESH-INTERVAL;VALUE=DURATION:PT1H
X-Robots-Tag:noindex
X-PUBLISHED-TTL:PT1H
BEGIN:VTIMEZONE
TZID:UTC
BEGIN:STANDARD
TZOFFSETFROM:+0000
TZOFFSETTO:+0000
TZNAME:UTC
DTSTART:20250101T000000
END:STANDARD
END:VTIMEZONE
BEGIN:VEVENT
DTSTART;TZID=UTC:20260131T000000
DTEND;TZID=UTC:20260131T235959
DTSTAMP:20260421T044108
CREATED:20211220T202824Z
LAST-MODIFIED:20250918T074037Z
UID:1751-1769817600-1769903999@ubejka.cz
SUMMARY:Zlatý skořápky
DESCRIPTION:Jsme hudební skupina se zaměřením na folk\, country a všechny žánry co se nám i vám líbí. Začínáme v 19.00 hodin.
URL:https://ubejka.cz/akce/zlaty-skorapky-2-2/
LOCATION:Restaurace / Bar U Bejka\, Linecká 41\, Český Krumlov\, Česká republika
CATEGORIES:Akce 2024 / 2025
ATTACH;FMTTYPE=image/jpeg:https://ubejka.cz/wp-content/uploads/2022/02/zlaty-skorapky.jpg
ORGANIZER;CN="Zbyn%C4%9Bk Doubek":MAILTO:ubejka@email.cz
END:VEVENT
END:VCALENDAR