BEGIN:VCALENDAR
VERSION:2.0
PRODID:-//U Bejka - ECPv6.15.17.1//NONSGML v1.0//EN
CALSCALE:GREGORIAN
METHOD:PUBLISH
X-ORIGINAL-URL:https://ubejka.cz
X-WR-CALDESC:Akce na U Bejka
REFRESH-INTERVAL;VALUE=DURATION:PT1H
X-Robots-Tag:noindex
X-PUBLISHED-TTL:PT1H
BEGIN:VTIMEZONE
TZID:UTC
BEGIN:STANDARD
TZOFFSETFROM:+0000
TZOFFSETTO:+0000
TZNAME:UTC
DTSTART:20250101T000000
END:STANDARD
END:VTIMEZONE
BEGIN:VEVENT
DTSTART;TZID=UTC:20260103T000000
DTEND;TZID=UTC:20260103T235959
DTSTAMP:20260421T060046
CREATED:20220928T132455Z
LAST-MODIFIED:20250918T073404Z
UID:1498-1767398400-1767484799@ubejka.cz
SUMMARY:Hudební Kroužek
DESCRIPTION:Ke vzniku našeho „kroužku” nás přivedla chuť zahrát si občas písničky\, které rádi posloucháme\, které jsme kdysi hrávali\, nebo k nimž prostě máme nějaký bližší vzah. Každý z nás hraje nebo hrál v dalších hudebních formacích\, které se zabývají vlastní tvorbou\, nebo se specializují na určitý styl a v takových sdruženích není pro takovéto „nezávazné“ přelétání z žánru do žánru příliš prostoru. U Bejka Od 19.00 hodin.
URL:https://ubejka.cz/akce/hudebni-krouzek-3/
LOCATION:Restaurace / Bar U Bejka\, Linecká 41\, Český Krumlov\, Česká republika
CATEGORIES:Akce 2025 / 2026
ATTACH;FMTTYPE=image/jpeg:https://ubejka.cz/wp-content/uploads/2022/02/hudebni-krouzek.jpg
ORGANIZER;CN="Zbyn%C4%9Bk Doubek":MAILTO:ubejka@email.cz
END:VEVENT
BEGIN:VEVENT
DTSTART;TZID=UTC:20260110T000000
DTEND;TZID=UTC:20260110T235959
DTSTAMP:20260421T060046
CREATED:20230112T095325Z
LAST-MODIFIED:20250918T073605Z
UID:1737-1768003200-1768089599@ubejka.cz
SUMMARY:Mimofchodem
DESCRIPTION:Naše kapelka vznikla v roce 2006. Hrajem převážně country\, blues a folk rock na svoje živě nahrané podkladyU Bejka od 19.00 hodin.
URL:https://ubejka.cz/akce/mimofchodem-3-3/
LOCATION:Restaurace / Bar U Bejka\, Linecká 41\, Český Krumlov\, Česká republika
CATEGORIES:Akce 2025 / 2026
ATTACH;FMTTYPE=image/jpeg:https://ubejka.cz/wp-content/uploads/2022/09/mimofchodem.jpg
ORGANIZER;CN="Zbyn%C4%9Bk Doubek":MAILTO:ubejka@email.cz
END:VEVENT
BEGIN:VEVENT
DTSTART;TZID=UTC:20260117T000000
DTEND;TZID=UTC:20260117T235959
DTSTAMP:20260421T060046
CREATED:20171017T090009Z
LAST-MODIFIED:20250918T073700Z
UID:1761-1768608000-1768694399@ubejka.cz
SUMMARY:Kocourovo Kartáč
DESCRIPTION:Hudební skupina Kocourovo Kartáč je schopna vám zpestřit svoji produkcí prakticky jakoukoliv akci\, od firemních večírků přes klasické zábavy až po svatby. Nevyhýbáme se ani maturitním plesům či libovolným druhům oslav. Máme široké hudební spektrum\, od country\, folku přes pop\, latinu až po rock\, takže na své si přijde prakticky každý. Tentokrát opět U Bejka od 19.00 hodin.
URL:https://ubejka.cz/akce/kocourovo-kartac-4-2-2-2-2-2/
LOCATION:Restaurace / Bar U Bejka\, Linecká 41\, Český Krumlov\, Česká republika
CATEGORIES:Akce 2025 / 2026
ATTACH;FMTTYPE=image/jpeg:https://ubejka.cz/wp-content/uploads/2022/02/kocourovo-kartac.jpg
ORGANIZER;CN="Zbyn%C4%9Bk Doubek":MAILTO:ubejka@email.cz
END:VEVENT
BEGIN:VEVENT
DTSTART;TZID=UTC:20260124T000000
DTEND;TZID=UTC:20260124T235959
DTSTAMP:20260421T060046
CREATED:20171017T090009Z
LAST-MODIFIED:20250918T073808Z
UID:1735-1769212800-1769299199@ubejka.cz
SUMMARY:The Fathers
DESCRIPTION:U Bejka od 19.00 hodin.
URL:https://ubejka.cz/akce/the-fathers-2/
LOCATION:Restaurace / Bar U Bejka\, Linecká 41\, Český Krumlov\, Česká republika
CATEGORIES:Akce 2025 / 2026
ATTACH;FMTTYPE=image/jpeg:https://ubejka.cz/wp-content/uploads/2017/10/The-Fathers.jpg
ORGANIZER;CN="Zbyn%C4%9Bk Doubek":MAILTO:ubejka@email.cz
END:VEVENT
BEGIN:VEVENT
DTSTART;TZID=UTC:20260131T000000
DTEND;TZID=UTC:20260131T235959
DTSTAMP:20260421T060046
CREATED:20211220T202824Z
LAST-MODIFIED:20250918T074037Z
UID:1751-1769817600-1769903999@ubejka.cz
SUMMARY:Zlatý skořápky
DESCRIPTION:Jsme hudební skupina se zaměřením na folk\, country a všechny žánry co se nám i vám líbí. Začínáme v 19.00 hodin.
URL:https://ubejka.cz/akce/zlaty-skorapky-2-2/
LOCATION:Restaurace / Bar U Bejka\, Linecká 41\, Český Krumlov\, Česká republika
CATEGORIES:Akce 2024 / 2025
ATTACH;FMTTYPE=image/jpeg:https://ubejka.cz/wp-content/uploads/2022/02/zlaty-skorapky.jpg
ORGANIZER;CN="Zbyn%C4%9Bk Doubek":MAILTO:ubejka@email.cz
END:VEVENT
BEGIN:VEVENT
DTSTART;TZID=UTC:20260207T000000
DTEND;TZID=UTC:20260207T235959
DTSTAMP:20260421T060046
CREATED:20230112T095325Z
LAST-MODIFIED:20250918T074142Z
UID:1646-1770422400-1770508799@ubejka.cz
SUMMARY:Mimofchodem
DESCRIPTION:Naše kapelka vznikla v roce 2006. Hrajem převážně country\, blues a folk rock na svoje živě nahrané podkladyU Bejka od 19.00 hodin.
URL:https://ubejka.cz/akce/mimofchodem-3/
LOCATION:Restaurace / Bar U Bejka\, Linecká 41\, Český Krumlov\, Česká republika
CATEGORIES:Akce 2025 / 2026
ATTACH;FMTTYPE=image/jpeg:https://ubejka.cz/wp-content/uploads/2022/09/mimofchodem.jpg
ORGANIZER;CN="Zbyn%C4%9Bk Doubek":MAILTO:ubejka@email.cz
END:VEVENT
BEGIN:VEVENT
DTSTART;TZID=UTC:20260214T000000
DTEND;TZID=UTC:20260214T235959
DTSTAMP:20260421T060046
CREATED:20171017T090009Z
LAST-MODIFIED:20260217T090400Z
UID:1733-1771027200-1771113599@ubejka.cz
SUMMARY:Veřejná zkouška
DESCRIPTION:Hudební skupina Veřejná zkouška U Bejka od 19.00 hodin.
URL:https://ubejka.cz/akce/verejna-skouska/
LOCATION:Restaurace / Bar U Bejka\, Linecká 41\, Český Krumlov\, Česká republika
CATEGORIES:Akce 2025 / 2026
ATTACH;FMTTYPE=image/jpeg:https://ubejka.cz/wp-content/uploads/2017/10/WhatsApp-Image-2026-02-11-at-20.54.15.jpeg
ORGANIZER;CN="Zbyn%C4%9Bk Doubek":MAILTO:ubejka@email.cz
END:VEVENT
BEGIN:VEVENT
DTSTART;TZID=UTC:20260221T000000
DTEND;TZID=UTC:20260221T235959
DTSTAMP:20260421T060046
CREATED:20180129T102336Z
LAST-MODIFIED:20250918T074331Z
UID:1721-1771632000-1771718399@ubejka.cz
SUMMARY:Bartband
DESCRIPTION:Acoustic rock. U Bejka od 19.00 hodin.
URL:https://ubejka.cz/akce/bartband-2/
LOCATION:Restaurace / Bar U Bejka\, Linecká 41\, Český Krumlov\, Česká republika
CATEGORIES:Akce 2025 / 2026
ATTACH;FMTTYPE=image/jpeg:https://ubejka.cz/wp-content/uploads/2018/01/Bartband.jpg
ORGANIZER;CN="Zbyn%C4%9Bk Doubek":MAILTO:ubejka@email.cz
END:VEVENT
BEGIN:VEVENT
DTSTART;TZID=UTC:20260228T000000
DTEND;TZID=UTC:20260228T235959
DTSTAMP:20260421T060046
CREATED:20220928T131503Z
LAST-MODIFIED:20260205T121529Z
UID:1398-1772236800-1772323199@ubejka.cz
SUMMARY:Hudební kroužek band
DESCRIPTION:Ke vzniku našeho „kroužku” nás přivedla chuť zahrát si občas písničky\, které rádi posloucháme\, které jsme kdysi hrávali\, nebo k nimž prostě máme nějaký bližší vzah. Každý z nás hraje nebo hrál v dalších hudebních formacích\, které se zabývají vlastní tvorbou\, nebo se specializují na určitý styl a v takových sdruženích není pro takovéto „nezávazné“ přelétání z žánru do žánru příliš prostoru. U Bejka Od 19.00 hodin.
URL:https://ubejka.cz/akce/hudebni-krouzek/
LOCATION:Restaurace / Bar U Bejka\, Linecká 41\, Český Krumlov\, Česká republika
CATEGORIES:Akce 2025 / 2026
ATTACH;FMTTYPE=image/jpeg:https://ubejka.cz/wp-content/uploads/2017/10/WhatsApp-Image-2026-02-01-at-11.05.40.jpeg
ORGANIZER;CN="Zbyn%C4%9Bk Doubek":MAILTO:ubejka@email.cz
END:VEVENT
BEGIN:VEVENT
DTSTART;TZID=UTC:20260306T000000
DTEND;TZID=UTC:20260306T235959
DTSTAMP:20260421T060046
CREATED:20230112T095325Z
LAST-MODIFIED:20260205T115542Z
UID:1655-1772755200-1772841599@ubejka.cz
SUMMARY:Mimofchodem
DESCRIPTION:Naše kapelka vznikla v roce 2006. Hrajem převážně country\, blues a folk rock na svoje živě nahrané podkladyU Bejka od 19.00 hodin.
URL:https://ubejka.cz/akce/mimofchodem-3-2/
LOCATION:Restaurace / Bar U Bejka\, Linecká 41\, Český Krumlov\, Česká republika
CATEGORIES:Akce 2025 / 2026
ATTACH;FMTTYPE=image/jpeg:https://ubejka.cz/wp-content/uploads/2022/09/mimofchodem.jpg
ORGANIZER;CN="Zbyn%C4%9Bk Doubek":MAILTO:ubejka@email.cz
END:VEVENT
BEGIN:VEVENT
DTSTART;TZID=UTC:20260314T000000
DTEND;TZID=UTC:20260314T235959
DTSTAMP:20260421T060046
CREATED:20171017T090009Z
LAST-MODIFIED:20250918T074701Z
UID:1650-1773446400-1773532799@ubejka.cz
SUMMARY:The Fathers
DESCRIPTION:U Bejka od 19.00 hodin.
URL:https://ubejka.cz/akce/the-fathers/
LOCATION:Restaurace / Bar U Bejka\, Linecká 41\, Český Krumlov\, Česká republika
CATEGORIES:Akce 2025 / 2026
ATTACH;FMTTYPE=image/jpeg:https://ubejka.cz/wp-content/uploads/2017/10/The-Fathers.jpg
ORGANIZER;CN="Zbyn%C4%9Bk Doubek":MAILTO:ubejka@email.cz
END:VEVENT
BEGIN:VEVENT
DTSTART;TZID=UTC:20260320T190000
DTEND;TZID=UTC:20260320T220000
DTSTAMP:20260421T060046
CREATED:20220928T124022Z
LAST-MODIFIED:20260217T090459Z
UID:1653-1774033200-1774044000@ubejka.cz
SUMMARY:Akustix
DESCRIPTION:AkustiX je muzikantská dvojice z Českých Budějovic\, založená zpěvačkou Markétou Vejdovcovou a kytaristou Michalem Domínem. Hrajeme převážně covery současných umělců\, které si upravujeme do akustické podoby. Ctíme však originální verze všech písní.  Zahrají u nás v hospůdce od 19.00 hodin.
URL:https://ubejka.cz/akce/akustix-3/
LOCATION:Restaurace / Bar U Bejka\, Linecká 41\, Český Krumlov\, Česká republika
CATEGORIES:Akce 2025 / 2026
ATTACH;FMTTYPE=image/jpeg:https://ubejka.cz/wp-content/uploads/2017/10/903E4014-F57D-4BAE-B552-3CD9D33A608F.jpeg
ORGANIZER;CN="Zbyn%C4%9Bk Doubek":MAILTO:ubejka@email.cz
END:VEVENT
BEGIN:VEVENT
DTSTART;TZID=UTC:20260327T000000
DTEND;TZID=UTC:20260327T235959
DTSTAMP:20260421T060046
CREATED:20220929T061640Z
LAST-MODIFIED:20260205T121459Z
UID:1445-1774569600-1774655999@ubejka.cz
SUMMARY:Hudební Kroužek
DESCRIPTION:Ke vzniku našeho „kroužku” nás přivedla chuť zahrát si občas písničky\, které rádi posloucháme\, které jsme kdysi hrávali\, nebo k nimž prostě máme nějaký bližší vzah. Každý z nás hraje nebo hrál v dalších hudebních formacích\, které se zabývají vlastní tvorbou\, nebo se specializují na určitý styl a v takových sdruženích není pro takovéto „nezávazné“ přelétání z žánru do žánru příliš prostoru. U Bejka Od 19.00 hodin.
URL:https://ubejka.cz/akce/hudebni-krouzek-2/
LOCATION:Restaurace / Bar U Bejka\, Linecká 41\, Český Krumlov\, Česká republika
CATEGORIES:Akce 2025 / 2026
ATTACH;FMTTYPE=image/jpeg:https://ubejka.cz/wp-content/uploads/2017/10/WhatsApp-Image-2026-02-01-at-11.05.40.jpeg
ORGANIZER;CN="Zbyn%C4%9Bk Doubek":MAILTO:ubejka@email.cz
END:VEVENT
BEGIN:VEVENT
DTSTART;TZID=UTC:20260404T000000
DTEND;TZID=UTC:20260404T235959
DTSTAMP:20260421T060046
CREATED:20180129T102336Z
LAST-MODIFIED:20260115T063843Z
UID:1791-1775260800-1775347199@ubejka.cz
SUMMARY:Bartband
DESCRIPTION:Acoustic rock. U Bejka od 19.00 hodin.
URL:https://ubejka.cz/akce/bartband-2-3/
LOCATION:Restaurace / Bar U Bejka\, Linecká 41\, Český Krumlov\, Česká republika
CATEGORIES:Akce 2025 / 2026
ATTACH;FMTTYPE=image/jpeg:https://ubejka.cz/wp-content/uploads/2018/01/Bartband.jpg
ORGANIZER;CN="Zbyn%C4%9Bk Doubek":MAILTO:ubejka@email.cz
END:VEVENT
BEGIN:VEVENT
DTSTART;TZID=UTC:20260411T000000
DTEND;TZID=UTC:20260411T235959
DTSTAMP:20260421T060046
CREATED:20171017T090009Z
LAST-MODIFIED:20260115T063935Z
UID:1793-1775865600-1775951999@ubejka.cz
SUMMARY:Kocourovo Kartáč
DESCRIPTION:Hudební skupina Kocourovo Kartáč je schopna vám zpestřit svoji produkcí prakticky jakoukoliv akci\, od firemních večírků přes klasické zábavy až po svatby. Nevyhýbáme se ani maturitním plesům či libovolným druhům oslav. Máme široké hudební spektrum\, od country\, folku přes pop\, latinu až po rock\, takže na své si přijde prakticky každý. Tentokrát opět U Bejka od 19.00 hodin.
URL:https://ubejka.cz/akce/kocourovo-kartac-4-2-2-2/
LOCATION:Restaurace / Bar U Bejka\, Linecká 41\, Český Krumlov\, Česká republika
CATEGORIES:Akce 2025 / 2026
ATTACH;FMTTYPE=image/jpeg:https://ubejka.cz/wp-content/uploads/2022/02/kocourovo-kartac.jpg
ORGANIZER;CN="Zbyn%C4%9Bk Doubek":MAILTO:ubejka@email.cz
END:VEVENT
BEGIN:VEVENT
DTSTART;TZID=UTC:20260418T000000
DTEND;TZID=UTC:20260418T235959
DTSTAMP:20260421T060046
CREATED:20230112T095325Z
LAST-MODIFIED:20260115T064023Z
UID:1795-1776470400-1776556799@ubejka.cz
SUMMARY:Mimofchodem
DESCRIPTION:Naše kapelka vznikla v roce 2006. Hrajem převážně country\, blues a folk rock na svoje živě nahrané podkladyU Bejka od 19.00 hodin.
URL:https://ubejka.cz/akce/mimofchodem-3-2-2/
LOCATION:Restaurace / Bar U Bejka\, Linecká 41\, Český Krumlov\, Česká republika
CATEGORIES:Akce 2025 / 2026
ATTACH;FMTTYPE=image/jpeg:https://ubejka.cz/wp-content/uploads/2022/09/mimofchodem.jpg
ORGANIZER;CN="Zbyn%C4%9Bk Doubek":MAILTO:ubejka@email.cz
END:VEVENT
BEGIN:VEVENT
DTSTART;TZID=UTC:20260425T000000
DTEND;TZID=UTC:20260425T235959
DTSTAMP:20260421T060046
CREATED:20211220T202824Z
LAST-MODIFIED:20260115T064111Z
UID:1797-1777075200-1777161599@ubejka.cz
SUMMARY:Zlatý skořápky
DESCRIPTION:Jsme hudební skupina se zaměřením na folk\, country a všechny žánry co se nám i vám líbí. Začínáme v 19.00 hodin.
URL:https://ubejka.cz/akce/zlaty-skorapky-2-2-2/
LOCATION:Restaurace / Bar U Bejka\, Linecká 41\, Český Krumlov\, Česká republika
CATEGORIES:Akce 2024 / 2025
ATTACH;FMTTYPE=image/jpeg:https://ubejka.cz/wp-content/uploads/2022/02/zlaty-skorapky.jpg
ORGANIZER;CN="Zbyn%C4%9Bk Doubek":MAILTO:ubejka@email.cz
END:VEVENT
BEGIN:VEVENT
DTSTART;TZID=UTC:20260502T000000
DTEND;TZID=UTC:20260502T235959
DTSTAMP:20260421T060046
CREATED:20211220T202824Z
LAST-MODIFIED:20260115T064728Z
UID:1801-1777680000-1777766399@ubejka.cz
SUMMARY:Akustix
DESCRIPTION:AkustiX je muzikantská dvojice z Českých Budějovic\, založená zpěvačkou Markétou Vejdovcovou a kytaristou Michalem Domínem. Hrajeme převážně covery současných umělců\, které si upravujeme do akustické podoby. Ctíme však originální verze všech písní.  Zahrají u nás v hospůdce od 19.00 hodin.
URL:https://ubejka.cz/akce/akustix-4/
LOCATION:Restaurace / Bar U Bejka\, Linecká 41\, Český Krumlov\, Česká republika
CATEGORIES:Akce 2024 / 2025
ATTACH;FMTTYPE=image/jpeg:https://ubejka.cz/wp-content/uploads/2017/10/903E4014-F57D-4BAE-B552-3CD9D33A608F.jpeg
ORGANIZER;CN="Zbyn%C4%9Bk Doubek":MAILTO:ubejka@email.cz
END:VEVENT
BEGIN:VEVENT
DTSTART;TZID=UTC:20260509T000000
DTEND;TZID=UTC:20260509T235959
DTSTAMP:20260421T060046
CREATED:20171017T090009Z
LAST-MODIFIED:20260115T064839Z
UID:1803-1778284800-1778371199@ubejka.cz
SUMMARY:Kocourovo Kartáč
DESCRIPTION:Hudební skupina Kocourovo Kartáč je schopna vám zpestřit svoji produkcí prakticky jakoukoliv akci\, od firemních večírků přes klasické zábavy až po svatby. Nevyhýbáme se ani maturitním plesům či libovolným druhům oslav. Máme široké hudební spektrum\, od country\, folku přes pop\, latinu až po rock\, takže na své si přijde prakticky každý. Tentokrát opět U Bejka od 19.00 hodin.
URL:https://ubejka.cz/akce/kocourovo-kartac-4-2-2-2-3/
LOCATION:Restaurace / Bar U Bejka\, Linecká 41\, Český Krumlov\, Česká republika
CATEGORIES:Akce 2025 / 2026
ATTACH;FMTTYPE=image/jpeg:https://ubejka.cz/wp-content/uploads/2022/02/kocourovo-kartac.jpg
ORGANIZER;CN="Zbyn%C4%9Bk Doubek":MAILTO:ubejka@email.cz
END:VEVENT
END:VCALENDAR