BEGIN:VCALENDAR
VERSION:2.0
PRODID:-//U Bejka - ECPv6.15.17.1//NONSGML v1.0//EN
CALSCALE:GREGORIAN
METHOD:PUBLISH
X-WR-CALNAME:U Bejka
X-ORIGINAL-URL:https://ubejka.cz
X-WR-CALDESC:Akce na U Bejka
REFRESH-INTERVAL;VALUE=DURATION:PT1H
X-Robots-Tag:noindex
X-PUBLISHED-TTL:PT1H
BEGIN:VTIMEZONE
TZID:UTC
BEGIN:STANDARD
TZOFFSETFROM:+0000
TZOFFSETTO:+0000
TZNAME:UTC
DTSTART:20220101T000000
END:STANDARD
END:VTIMEZONE
BEGIN:VEVENT
DTSTART;TZID=UTC:20260207T000000
DTEND;TZID=UTC:20260207T235959
DTSTAMP:20260421T042840
CREATED:20230112T095325Z
LAST-MODIFIED:20250918T074142Z
UID:1646-1770422400-1770508799@ubejka.cz
SUMMARY:Mimofchodem
DESCRIPTION:Naše kapelka vznikla v roce 2006. Hrajem převážně country\, blues a folk rock na svoje živě nahrané podkladyU Bejka od 19.00 hodin.
URL:https://ubejka.cz/akce/mimofchodem-3/
LOCATION:Restaurace / Bar U Bejka\, Linecká 41\, Český Krumlov\, Česká republika
CATEGORIES:Akce 2025 / 2026
ATTACH;FMTTYPE=image/jpeg:https://ubejka.cz/wp-content/uploads/2022/09/mimofchodem.jpg
ORGANIZER;CN="Zbyn%C4%9Bk Doubek":MAILTO:ubejka@email.cz
END:VEVENT
BEGIN:VEVENT
DTSTART;TZID=UTC:20260131T000000
DTEND;TZID=UTC:20260131T235959
DTSTAMP:20260421T042840
CREATED:20211220T202824Z
LAST-MODIFIED:20250918T074037Z
UID:1751-1769817600-1769903999@ubejka.cz
SUMMARY:Zlatý skořápky
DESCRIPTION:Jsme hudební skupina se zaměřením na folk\, country a všechny žánry co se nám i vám líbí. Začínáme v 19.00 hodin.
URL:https://ubejka.cz/akce/zlaty-skorapky-2-2/
LOCATION:Restaurace / Bar U Bejka\, Linecká 41\, Český Krumlov\, Česká republika
CATEGORIES:Akce 2024 / 2025
ATTACH;FMTTYPE=image/jpeg:https://ubejka.cz/wp-content/uploads/2022/02/zlaty-skorapky.jpg
ORGANIZER;CN="Zbyn%C4%9Bk Doubek":MAILTO:ubejka@email.cz
END:VEVENT
BEGIN:VEVENT
DTSTART;TZID=UTC:20260124T000000
DTEND;TZID=UTC:20260124T235959
DTSTAMP:20260421T042840
CREATED:20171017T090009Z
LAST-MODIFIED:20250918T073808Z
UID:1735-1769212800-1769299199@ubejka.cz
SUMMARY:The Fathers
DESCRIPTION:U Bejka od 19.00 hodin.
URL:https://ubejka.cz/akce/the-fathers-2/
LOCATION:Restaurace / Bar U Bejka\, Linecká 41\, Český Krumlov\, Česká republika
CATEGORIES:Akce 2025 / 2026
ATTACH;FMTTYPE=image/jpeg:https://ubejka.cz/wp-content/uploads/2017/10/The-Fathers.jpg
ORGANIZER;CN="Zbyn%C4%9Bk Doubek":MAILTO:ubejka@email.cz
END:VEVENT
BEGIN:VEVENT
DTSTART;TZID=UTC:20260117T000000
DTEND;TZID=UTC:20260117T235959
DTSTAMP:20260421T042840
CREATED:20171017T090009Z
LAST-MODIFIED:20250918T073700Z
UID:1761-1768608000-1768694399@ubejka.cz
SUMMARY:Kocourovo Kartáč
DESCRIPTION:Hudební skupina Kocourovo Kartáč je schopna vám zpestřit svoji produkcí prakticky jakoukoliv akci\, od firemních večírků přes klasické zábavy až po svatby. Nevyhýbáme se ani maturitním plesům či libovolným druhům oslav. Máme široké hudební spektrum\, od country\, folku přes pop\, latinu až po rock\, takže na své si přijde prakticky každý. Tentokrát opět U Bejka od 19.00 hodin.
URL:https://ubejka.cz/akce/kocourovo-kartac-4-2-2-2-2-2/
LOCATION:Restaurace / Bar U Bejka\, Linecká 41\, Český Krumlov\, Česká republika
CATEGORIES:Akce 2025 / 2026
ATTACH;FMTTYPE=image/jpeg:https://ubejka.cz/wp-content/uploads/2022/02/kocourovo-kartac.jpg
ORGANIZER;CN="Zbyn%C4%9Bk Doubek":MAILTO:ubejka@email.cz
END:VEVENT
BEGIN:VEVENT
DTSTART;TZID=UTC:20260110T000000
DTEND;TZID=UTC:20260110T235959
DTSTAMP:20260421T042840
CREATED:20230112T095325Z
LAST-MODIFIED:20250918T073605Z
UID:1737-1768003200-1768089599@ubejka.cz
SUMMARY:Mimofchodem
DESCRIPTION:Naše kapelka vznikla v roce 2006. Hrajem převážně country\, blues a folk rock na svoje živě nahrané podkladyU Bejka od 19.00 hodin.
URL:https://ubejka.cz/akce/mimofchodem-3-3/
LOCATION:Restaurace / Bar U Bejka\, Linecká 41\, Český Krumlov\, Česká republika
CATEGORIES:Akce 2025 / 2026
ATTACH;FMTTYPE=image/jpeg:https://ubejka.cz/wp-content/uploads/2022/09/mimofchodem.jpg
ORGANIZER;CN="Zbyn%C4%9Bk Doubek":MAILTO:ubejka@email.cz
END:VEVENT
BEGIN:VEVENT
DTSTART;TZID=UTC:20260103T000000
DTEND;TZID=UTC:20260103T235959
DTSTAMP:20260421T042840
CREATED:20220928T132455Z
LAST-MODIFIED:20250918T073404Z
UID:1498-1767398400-1767484799@ubejka.cz
SUMMARY:Hudební Kroužek
DESCRIPTION:Ke vzniku našeho „kroužku” nás přivedla chuť zahrát si občas písničky\, které rádi posloucháme\, které jsme kdysi hrávali\, nebo k nimž prostě máme nějaký bližší vzah. Každý z nás hraje nebo hrál v dalších hudebních formacích\, které se zabývají vlastní tvorbou\, nebo se specializují na určitý styl a v takových sdruženích není pro takovéto „nezávazné“ přelétání z žánru do žánru příliš prostoru. U Bejka Od 19.00 hodin.
URL:https://ubejka.cz/akce/hudebni-krouzek-3/
LOCATION:Restaurace / Bar U Bejka\, Linecká 41\, Český Krumlov\, Česká republika
CATEGORIES:Akce 2025 / 2026
ATTACH;FMTTYPE=image/jpeg:https://ubejka.cz/wp-content/uploads/2022/02/hudebni-krouzek.jpg
ORGANIZER;CN="Zbyn%C4%9Bk Doubek":MAILTO:ubejka@email.cz
END:VEVENT
BEGIN:VEVENT
DTSTART;TZID=UTC:20251213T190000
DTEND;TZID=UTC:20251213T210000
DTSTAMP:20260421T042840
CREATED:20220928T190000Z
LAST-MODIFIED:20250918T073235Z
UID:1739-1765652400-1765659600@ubejka.cz
SUMMARY:Akustix
DESCRIPTION:AkustiX je muzikantská dvojice z Českých Budějovic\, založená zpěvačkou Markétou Vejdovcovou a kytaristou Michalem Domínem. Hrajeme převážně covery současných umělců\, které si upravujeme do akustické podoby. Ctíme však originální verze všech písní.  Zahrají u nás v hospůdce od 19.00 hodin.
URL:https://ubejka.cz/akce/akustix-3-2/
LOCATION:Restaurace / Bar U Bejka\, Linecká 41\, Český Krumlov\, Česká republika
CATEGORIES:Akce 2025 / 2026
ATTACH;FMTTYPE=image/jpeg:https://ubejka.cz/wp-content/uploads/2017/10/903E4014-F57D-4BAE-B552-3CD9D33A608F.jpeg
ORGANIZER;CN="Zbyn%C4%9Bk Doubek":MAILTO:ubejka@email.cz
END:VEVENT
BEGIN:VEVENT
DTSTART;TZID=UTC:20251206T000000
DTEND;TZID=UTC:20251206T235959
DTSTAMP:20260421T042840
CREATED:20230112T095325Z
LAST-MODIFIED:20250918T072815Z
UID:1749-1764979200-1765065599@ubejka.cz
SUMMARY:Mimofchodem
DESCRIPTION:Naše kapelka vznikla v roce 2006. Hrajem převážně country\, blues a folk rock na svoje živě nahrané podkladyU Bejka od 19.00 hodin.
URL:https://ubejka.cz/akce/mimofchodem-3-3-2/
LOCATION:Restaurace / Bar U Bejka\, Linecká 41\, Český Krumlov\, Česká republika
CATEGORIES:Akce 2025 / 2026
ATTACH;FMTTYPE=image/jpeg:https://ubejka.cz/wp-content/uploads/2022/09/mimofchodem.jpg
ORGANIZER;CN="Zbyn%C4%9Bk Doubek":MAILTO:ubejka@email.cz
END:VEVENT
BEGIN:VEVENT
DTSTART;TZID=UTC:20251128T000000
DTEND;TZID=UTC:20251128T235959
DTSTAMP:20260421T042840
CREATED:20180129T102336Z
LAST-MODIFIED:20250918T072657Z
UID:1747-1764288000-1764374399@ubejka.cz
SUMMARY:Bartband
DESCRIPTION:Acoustic rock. U Bejka od 19.00 hodin.
URL:https://ubejka.cz/akce/bartband-2-2/
LOCATION:Restaurace / Bar U Bejka\, Linecká 41\, Český Krumlov\, Česká republika
CATEGORIES:Akce 2025 / 2026
ATTACH;FMTTYPE=image/jpeg:https://ubejka.cz/wp-content/uploads/2018/01/Bartband.jpg
ORGANIZER;CN="Zbyn%C4%9Bk Doubek":MAILTO:ubejka@email.cz
END:VEVENT
BEGIN:VEVENT
DTSTART;TZID=UTC:20251122T000000
DTEND;TZID=UTC:20251122T235959
DTSTAMP:20260421T042840
CREATED:20171017T090009Z
LAST-MODIFIED:20250918T072032Z
UID:1753-1763769600-1763855999@ubejka.cz
SUMMARY:Kocourovo Kartáč
DESCRIPTION:Hudební skupina Kocourovo Kartáč je schopna vám zpestřit svoji produkcí prakticky jakoukoliv akci\, od firemních večírků přes klasické zábavy až po svatby. Nevyhýbáme se ani maturitním plesům či libovolným druhům oslav. Máme široké hudební spektrum\, od country\, folku přes pop\, latinu až po rock\, takže na své si přijde prakticky každý. Tentokrát opět U Bejka od 19.00 hodin.
URL:https://ubejka.cz/akce/kocourovo-kartac-4-2-2-2-2/
LOCATION:Restaurace / Bar U Bejka\, Linecká 41\, Český Krumlov\, Česká republika
CATEGORIES:Akce 2025 / 2026
ATTACH;FMTTYPE=image/jpeg:https://ubejka.cz/wp-content/uploads/2022/02/kocourovo-kartac.jpg
ORGANIZER;CN="Zbyn%C4%9Bk Doubek":MAILTO:ubejka@email.cz
END:VEVENT
BEGIN:VEVENT
DTSTART;TZID=UTC:20251115T000000
DTEND;TZID=UTC:20251115T235959
DTSTAMP:20260421T042840
CREATED:20230112T095325Z
LAST-MODIFIED:20250918T075747Z
UID:1666-1763164800-1763251199@ubejka.cz
SUMMARY:Trio Traktůrek
DESCRIPTION:Trio Traktůrek – kapela z jihu\, která mixuje rock\, punk i country jako domácí vajíčka do pořádný omelety. Energie? Na rozdávání. Texty? Vtipný\, chytrý a občas i lehce na hraně. Zvuk? Žádný přehnanej kabaret – poctivej nářez melodií. Přijď si zakývat hlavou\, protáhnout kyčle a nechat se strhnout kapelou\, která fakt hraje – ne jenom dělá hudbu. U Bejka od 19.00 hodin.
URL:https://ubejka.cz/akce/trio-trakturek/
LOCATION:Restaurace / Bar U Bejka\, Linecká 41\, Český Krumlov\, Česká republika
CATEGORIES:Akce 2025 / 2026
ATTACH;FMTTYPE=image/jpeg:https://ubejka.cz/wp-content/uploads/2023/01/Untitled-design.jpeg
ORGANIZER;CN="Zbyn%C4%9Bk Doubek":MAILTO:ubejka@email.cz
END:VEVENT
BEGIN:VEVENT
DTSTART;TZID=UTC:20251108T000000
DTEND;TZID=UTC:20251108T235959
DTSTAMP:20260421T042840
CREATED:20220928T132455Z
LAST-MODIFIED:20250918T071346Z
UID:1745-1762560000-1762646399@ubejka.cz
SUMMARY:Hudební Kroužek
DESCRIPTION:Ke vzniku našeho „kroužku” nás přivedla chuť zahrát si občas písničky\, které rádi posloucháme\, které jsme kdysi hrávali\, nebo k nimž prostě máme nějaký bližší vzah. Každý z nás hraje nebo hrál v dalších hudebních formacích\, které se zabývají vlastní tvorbou\, nebo se specializují na určitý styl a v takových sdruženích není pro takovéto „nezávazné“ přelétání z žánru do žánru příliš prostoru. U Bejka Od 19.00 hodin.
URL:https://ubejka.cz/akce/hudebni-krouzek-3-2/
LOCATION:Restaurace / Bar U Bejka\, Linecká 41\, Český Krumlov\, Česká republika
CATEGORIES:Akce 2025 / 2026
ATTACH;FMTTYPE=image/jpeg:https://ubejka.cz/wp-content/uploads/2022/02/hudebni-krouzek.jpg
ORGANIZER;CN="Zbyn%C4%9Bk Doubek":MAILTO:ubejka@email.cz
END:VEVENT
BEGIN:VEVENT
DTSTART;TZID=UTC:20250301T000000
DTEND;TZID=UTC:20250301T235959
DTSTAMP:20260421T042840
CREATED:20211220T201540Z
LAST-MODIFIED:20240923T072819Z
UID:1716-1740787200-1740873599@ubejka.cz
SUMMARY:Liam & Hissboys
DESCRIPTION:Kapela zpěváka a autora Liama Staynera hrající originální americké country & rock’n’roll. Since 2023. Zahrají u nás v hospůdce od 19.00 hodin.
URL:https://ubejka.cz/akce/liam-and-hissboys-2/
LOCATION:Restaurace / Bar U Bejka\, Linecká 41\, Český Krumlov\, Česká republika
CATEGORIES:Akce 2024 / 2025
ATTACH;FMTTYPE=image/jpeg:https://ubejka.cz/wp-content/uploads/2021/12/Liam-and-HissBoys.jpg
ORGANIZER;CN="Zbyn%C4%9Bk Doubek":MAILTO:ubejka@email.cz
END:VEVENT
BEGIN:VEVENT
DTSTART;TZID=UTC:20250125T000000
DTEND;TZID=UTC:20250125T235959
DTSTAMP:20260421T042840
CREATED:20171017T090009Z
LAST-MODIFIED:20250111T121433Z
UID:1755-1737763200-1737849599@ubejka.cz
SUMMARY:Dan Bárta Parasites
DESCRIPTION:Není to revival\, není to tribute\, je to zkrátka projekt DB Parasites. Zatím jste měli možnost nás akusticky vidět jen jednou\, ale brzy budou další příležitosti. Pilně zkoušíme další kusy a dost nás to baví. Řadu písniček Dana Bárty znáte v našem podání už léta\, jiné jste od nás ještě neslyšeli a my se těšíme\, až vám je zahrajeme. \nU Bejka od 19.00 hodin.
URL:https://ubejka.cz/akce/db-parasites/
LOCATION:Restaurace / Bar U Bejka\, Linecká 41\, Český Krumlov\, Česká republika
CATEGORIES:Akce 2024 / 2025
ATTACH;FMTTYPE=image/jpeg:https://ubejka.cz/wp-content/uploads/2017/10/Dan-barta-parasites.jpg
ORGANIZER;CN="Zbyn%C4%9Bk Doubek":MAILTO:ubejka@email.cz
END:VEVENT
BEGIN:VEVENT
DTSTART;TZID=UTC:20250104T000000
DTEND;TZID=UTC:20250104T235959
DTSTAMP:20260421T042840
CREATED:20171017T090009Z
LAST-MODIFIED:20240923T064858Z
UID:1657-1735948800-1736035199@ubejka.cz
SUMMARY:Kocourovo Kartáč
DESCRIPTION:Hudební skupina Kocourovo Kartáč je schopna vám zpestřit svoji produkcí prakticky jakoukoliv akci\, od firemních večírků přes klasické zábavy až po svatby. Nevyhýbáme se ani maturitním plesům či libovolným druhům oslav. Máme široké hudební spektrum\, od country\, folku přes pop\, latinu až po rock\, takže na své si přijde prakticky každý. Tentokrát opět U Bejka od 19.00 hodin.
URL:https://ubejka.cz/akce/kocourovo-kartac-4-2/
LOCATION:Restaurace / Bar U Bejka\, Linecká 41\, Český Krumlov\, Česká republika
CATEGORIES:Akce 2024 / 2025
ATTACH;FMTTYPE=image/jpeg:https://ubejka.cz/wp-content/uploads/2022/02/kocourovo-kartac.jpg
ORGANIZER;CN="Zbyn%C4%9Bk Doubek":MAILTO:ubejka@email.cz
END:VEVENT
BEGIN:VEVENT
DTSTART;TZID=UTC:20241228T000000
DTEND;TZID=UTC:20241228T235959
DTSTAMP:20260421T042840
CREATED:20211220T202824Z
LAST-MODIFIED:20240923T064803Z
UID:1448-1735344000-1735430399@ubejka.cz
SUMMARY:Zlatý skořápky
DESCRIPTION:Jsme hudební skupina se zaměřením na folk\, country a všechny žánry co se nám i vám líbí. Začínáme v 19.00 hodin.
URL:https://ubejka.cz/akce/zlaty-skorapky-2/
LOCATION:Restaurace / Bar U Bejka\, Linecká 41\, Český Krumlov\, Česká republika
CATEGORIES:Akce 2024 / 2025
ATTACH;FMTTYPE=image/jpeg:https://ubejka.cz/wp-content/uploads/2022/02/zlaty-skorapky.jpg
ORGANIZER;CN="Zbyn%C4%9Bk Doubek":MAILTO:ubejka@email.cz
END:VEVENT
BEGIN:VEVENT
DTSTART;TZID=UTC:20241207T000000
DTEND;TZID=UTC:20241207T235959
DTSTAMP:20260421T042840
CREATED:20180129T102336Z
LAST-MODIFIED:20240923T073404Z
UID:708-1733529600-1733615999@ubejka.cz
SUMMARY:Bartband
DESCRIPTION:Acoustic rock. U Bejka od 19.00 hodin.
URL:https://ubejka.cz/akce/bartband/
LOCATION:Restaurace / Bar U Bejka\, Linecká 41\, Český Krumlov\, Česká republika
CATEGORIES:Akce 2024 / 2025
ATTACH;FMTTYPE=image/jpeg:https://ubejka.cz/wp-content/uploads/2018/01/Bartband.jpg
ORGANIZER;CN="Zbyn%C4%9Bk Doubek":MAILTO:ubejka@email.cz
END:VEVENT
BEGIN:VEVENT
DTSTART;TZID=UTC:20241116T000000
DTEND;TZID=UTC:20241116T235959
DTSTAMP:20260421T042840
CREATED:20211220T201540Z
LAST-MODIFIED:20240923T071622Z
UID:1433-1731715200-1731801599@ubejka.cz
SUMMARY:Liam & Hissboys
DESCRIPTION:Kapela zpěváka a autora Liama Staynera hrající originální americké country & rock’n’roll. Since 2023. Zahrají u nás v hospůdce od 19.00 hodin.
URL:https://ubejka.cz/akce/liam-and-hissboys/
LOCATION:Restaurace / Bar U Bejka\, Linecká 41\, Český Krumlov\, Česká republika
CATEGORIES:Akce 2024 / 2025
ATTACH;FMTTYPE=image/jpeg:https://ubejka.cz/wp-content/uploads/2021/12/Liam-and-HissBoys.jpg
ORGANIZER;CN="Zbyn%C4%9Bk Doubek":MAILTO:ubejka@email.cz
END:VEVENT
BEGIN:VEVENT
DTSTART;TZID=UTC:20241109T230000
DTEND;TZID=UTC:20241110T225959
DTSTAMP:20260421T042840
CREATED:20220928T124022Z
LAST-MODIFIED:20240923T063727Z
UID:1659-1731193200-1731279599@ubejka.cz
SUMMARY:Akustix
DESCRIPTION:AkustiX je muzikantská dvojice z Českých Budějovic\, založená zpěvačkou Markétou Vejdovcovou a kytaristou Michalem Domínem. Hrajeme převážně covery současných umělců\, které si upravujeme do akustické podoby. Ctíme však originální verze všech písní.  Zahrají u nás v hospůdce od 19.00 hodin.
URL:https://ubejka.cz/akce/akustix-2/
LOCATION:Restaurace / Bar U Bejka\, Linecká 41\, Český Krumlov\, Česká republika
CATEGORIES:Akce 2024 / 2025
ATTACH;FMTTYPE=image/jpeg:https://ubejka.cz/wp-content/uploads/2017/10/903E4014-F57D-4BAE-B552-3CD9D33A608F.jpeg
ORGANIZER;CN="Zbyn%C4%9Bk Doubek":MAILTO:ubejka@email.cz
END:VEVENT
BEGIN:VEVENT
DTSTART;TZID=UTC:20241102T000000
DTEND;TZID=UTC:20241102T235959
DTSTAMP:20260421T042840
CREATED:20220929T061640Z
LAST-MODIFIED:20240923T071850Z
UID:1648-1730505600-1730591999@ubejka.cz
SUMMARY:Pepa Pelán
DESCRIPTION:Folkový písničkář. U Bejka Od 19.00 hodin.
URL:https://ubejka.cz/akce/pepa-pelan/
LOCATION:Restaurace / Bar U Bejka\, Linecká 41\, Český Krumlov\, Česká republika
CATEGORIES:Akce 2024 / 2025
ATTACH;FMTTYPE=image/jpeg:https://ubejka.cz/wp-content/uploads/2022/09/Pepa-Pelan.jpg
ORGANIZER;CN="Zbyn%C4%9Bk Doubek":MAILTO:ubejka@email.cz
END:VEVENT
BEGIN:VEVENT
DTSTART;TZID=UTC:20240224T000000
DTEND;TZID=UTC:20240224T235959
DTSTAMP:20260421T042840
CREATED:20220928T134414Z
LAST-MODIFIED:20231025T075649Z
UID:1579-1708732800-1708819199@ubejka.cz
SUMMARY:Akustix
DESCRIPTION:AkustiX je muzikantská dvojice z Českých Budějovic\, založená zpěvačkou Markétou Vejdovcovou a kytaristou Michalem Domínem. Hrajeme převážně covery současných umělců\, které si upravujeme do akustické podoby. Ctíme však originální verze všech písní.  Zahrají u nás v hospůdce od 19.00 hodin.
URL:https://ubejka.cz/akce/akustix/
LOCATION:Restaurace / Bar U Bejka\, Linecká 41\, Český Krumlov\, Česká republika
CATEGORIES:Akce 2023 / 2024
ATTACH;FMTTYPE=image/jpeg:https://ubejka.cz/wp-content/uploads/2017/10/903E4014-F57D-4BAE-B552-3CD9D33A608F.jpeg
ORGANIZER;CN="Zbyn%C4%9Bk Doubek":MAILTO:ubejka@email.cz
END:VEVENT
BEGIN:VEVENT
DTSTART;TZID=UTC:20240203T000000
DTEND;TZID=UTC:20240203T235959
DTSTAMP:20260421T042840
CREATED:20220928T132717Z
LAST-MODIFIED:20231025T075519Z
UID:1454-1706918400-1707004799@ubejka.cz
SUMMARY:Kocourovo Kartáč
DESCRIPTION:Hudební skupina Kocourovo Kartáč je schopna vám zpestřit svoji produkcí prakticky jakoukoliv akci\, od firemních večírků přes klasické zábavy až po svatby. Nevyhýbáme se ani maturitním plesům či libovolným druhům oslav. Máme široké hudební spektrum\, od country\, folku přes pop\, latinu až po rock\, takže na své si přijde prakticky každý. Tentokrát opět U Bejka od 19.00 hodin.
URL:https://ubejka.cz/akce/kocourovo-kartac-3/
LOCATION:Restaurace / Bar U Bejka\, Linecká 41\, Český Krumlov\, Česká republika
CATEGORIES:Akce 2023 / 2024
ATTACH;FMTTYPE=image/jpeg:https://ubejka.cz/wp-content/uploads/2022/02/kocourovo-kartac.jpg
ORGANIZER;CN="Zbyn%C4%9Bk Doubek":MAILTO:ubejka@email.cz
END:VEVENT
BEGIN:VEVENT
DTSTART;TZID=UTC:20240120T000000
DTEND;TZID=UTC:20240120T235959
DTSTAMP:20260421T042840
CREATED:20220928T132834Z
LAST-MODIFIED:20231025T075352Z
UID:1502-1705708800-1705795199@ubejka.cz
SUMMARY:Hans Looper Trans
DESCRIPTION:Hans Looper Trans – známé rockové taneční hity české a zahraniční\, one man show Honzy Politzera s nástroji a looperem. U Bejka od 19.00 hodin.
URL:https://ubejka.cz/akce/hans-looper-trans-2/
LOCATION:Restaurace / Bar U Bejka\, Linecká 41\, Český Krumlov\, Česká republika
CATEGORIES:Akce 2023 / 2024
ATTACH;FMTTYPE=image/jpeg:https://ubejka.cz/wp-content/uploads/2017/10/FBA035B4-ACBA-4AAC-8B96-370696E4E2AB.jpeg
ORGANIZER;CN="Zbyn%C4%9Bk Doubek":MAILTO:ubejka@email.cz
END:VEVENT
BEGIN:VEVENT
DTSTART;TZID=UTC:20240113T000000
DTEND;TZID=UTC:20240113T235959
DTSTAMP:20260421T042840
CREATED:20220929T062006Z
LAST-MODIFIED:20231025T075314Z
UID:1436-1705104000-1705190399@ubejka.cz
SUMMARY:Kocourovo Kartáč
DESCRIPTION:Hudební skupina Kocourovo Kartáč je schopna vám zpestřit svoji produkcí prakticky jakoukoliv akci\, od firemních večírků přes klasické zábavy až po svatby. Nevyhýbáme se ani maturitním plesům či libovolným druhům oslav. Máme široké hudební spektrum\, od country\, folku přes pop\, latinu až po rock\, takže na své si přijde prakticky každý. Tentokrát opět U Bejka od 19.00 hodin.
URL:https://ubejka.cz/akce/kocourovo-kartac-2/
LOCATION:Restaurace / Bar U Bejka\, Linecká 41\, Český Krumlov\, Česká republika
CATEGORIES:Akce 2023 / 2024
ATTACH;FMTTYPE=image/jpeg:https://ubejka.cz/wp-content/uploads/2022/02/kocourovo-kartac.jpg
ORGANIZER;CN="Zbyn%C4%9Bk Doubek":MAILTO:ubejka@email.cz
END:VEVENT
BEGIN:VEVENT
DTSTART;TZID=UTC:20240106T000000
DTEND;TZID=UTC:20240106T235959
DTSTAMP:20260421T042840
CREATED:20230112T095325Z
LAST-MODIFIED:20231025T075215Z
UID:1644-1704499200-1704585599@ubejka.cz
SUMMARY:Mimofchodem
DESCRIPTION:Naše kapelka vznikla v roce 2006. Hrajem převážně country\, blues a folk rock na svoje živě nahrané podkladyU Bejka od 19.00 hodin.
URL:https://ubejka.cz/akce/mimofchodem-2-2/
LOCATION:Restaurace / Bar U Bejka\, Linecká 41\, Český Krumlov\, Česká republika
CATEGORIES:Akce 2023 / 2024
ATTACH;FMTTYPE=image/jpeg:https://ubejka.cz/wp-content/uploads/2022/09/mimofchodem.jpg
ORGANIZER;CN="Zbyn%C4%9Bk Doubek":MAILTO:ubejka@email.cz
END:VEVENT
BEGIN:VEVENT
DTSTART;TZID=UTC:20231209T000000
DTEND;TZID=UTC:20231209T235959
DTSTAMP:20260421T042840
CREATED:20220929T061114Z
LAST-MODIFIED:20231025T073719Z
UID:247-1702080000-1702166399@ubejka.cz
SUMMARY:Zlatý skořápky
DESCRIPTION:Jsme hudební skupina se zaměřením na folk\, country a všechny žánry co se nám i vám líbí. Začínáme v 19.00 hodin.
URL:https://ubejka.cz/akce/zlaty-skorapky/
LOCATION:Restaurace / Bar U Bejka\, Linecká 41\, Český Krumlov\, Česká republika
CATEGORIES:Akce 2023 / 2024
ATTACH;FMTTYPE=image/jpeg:https://ubejka.cz/wp-content/uploads/2022/02/zlaty-skorapky.jpg
ORGANIZER;CN="Zbyn%C4%9Bk Doubek":MAILTO:ubejka@email.cz
END:VEVENT
BEGIN:VEVENT
DTSTART;TZID=UTC:20231125T000000
DTEND;TZID=UTC:20231125T235959
DTSTAMP:20260421T042840
CREATED:20230112T095325Z
LAST-MODIFIED:20231025T074155Z
UID:1642-1700870400-1700956799@ubejka.cz
SUMMARY:Mimofchodem
DESCRIPTION:Naše kapelka vznikla v roce 2006. Hrajem převážně country\, blues a folk rock na svoje živě nahrané podkladyU Bejka od 19.00 hodin.
URL:https://ubejka.cz/akce/mimofchodem-2/
LOCATION:Restaurace / Bar U Bejka\, Linecká 41\, Český Krumlov\, Česká republika
CATEGORIES:Akce 2023 / 2024
ATTACH;FMTTYPE=image/jpeg:https://ubejka.cz/wp-content/uploads/2022/09/mimofchodem.jpg
ORGANIZER;CN="Zbyn%C4%9Bk Doubek":MAILTO:ubejka@email.cz
END:VEVENT
BEGIN:VEVENT
DTSTART;TZID=UTC:20231117T230000
DTEND;TZID=UTC:20231118T225959
DTSTAMP:20260421T042840
CREATED:20220928T124022Z
LAST-MODIFIED:20231115T083031Z
UID:242-1700262000-1700348399@ubejka.cz
SUMMARY:Akustix
DESCRIPTION:AkustiX je muzikantská dvojice z Českých Budějovic\, založená zpěvačkou Markétou Vejdovcovou a kytaristou Michalem Domínem. Hrajeme převážně covery současných umělců\, které si upravujeme do akustické podoby. Ctíme však originální verze všech písní.  Zahrají u nás v hospůdce od 19.00 hodin.
URL:https://ubejka.cz/akce/jamal-band/
LOCATION:Restaurace / Bar U Bejka\, Linecká 41\, Český Krumlov\, Česká republika
CATEGORIES:Akce 2023 / 2024
ATTACH;FMTTYPE=image/jpeg:https://ubejka.cz/wp-content/uploads/2017/10/903E4014-F57D-4BAE-B552-3CD9D33A608F.jpeg
ORGANIZER;CN="Zbyn%C4%9Bk Doubek":MAILTO:ubejka@email.cz
END:VEVENT
BEGIN:VEVENT
DTSTART;TZID=UTC:20231111T000000
DTEND;TZID=UTC:20231111T235959
DTSTAMP:20260421T042840
CREATED:20171017T090009Z
LAST-MODIFIED:20231025T071545Z
UID:250-1699660800-1699747199@ubejka.cz
SUMMARY:Kocourovo Kartáč
DESCRIPTION:Hudební skupina Kocourovo Kartáč je schopna vám zpestřit svoji produkcí prakticky jakoukoliv akci\, od firemních večírků přes klasické zábavy až po svatby. Nevyhýbáme se ani maturitním plesům či libovolným druhům oslav. Máme široké hudební spektrum\, od country\, folku přes pop\, latinu až po rock\, takže na své si přijde prakticky každý. Tentokrát opět U Bejka od 19.00 hodin.
URL:https://ubejka.cz/akce/kocourovo-kartac/
LOCATION:Restaurace / Bar U Bejka\, Linecká 41\, Český Krumlov\, Česká republika
CATEGORIES:Akce 2023 / 2024
ATTACH;FMTTYPE=image/jpeg:https://ubejka.cz/wp-content/uploads/2022/02/kocourovo-kartac.jpg
ORGANIZER;CN="Zbyn%C4%9Bk Doubek":MAILTO:ubejka@email.cz
END:VEVENT
BEGIN:VEVENT
DTSTART;TZID=UTC:20231103T000000
DTEND;TZID=UTC:20231103T235959
DTSTAMP:20260421T042840
CREATED:20230112T095325Z
LAST-MODIFIED:20231025T071155Z
UID:1442-1698969600-1699055999@ubejka.cz
SUMMARY:Mimofchodem
DESCRIPTION:Naše kapelka vznikla v roce 2006. Hrajem převážně country\, blues a folk rock na svoje živě nahrané podkladyU Bejka od 19.00 hodin.
URL:https://ubejka.cz/akce/mimofchodem/
LOCATION:Restaurace / Bar U Bejka\, Linecká 41\, Český Krumlov\, Česká republika
CATEGORIES:Akce 2023 / 2024
ATTACH;FMTTYPE=image/jpeg:https://ubejka.cz/wp-content/uploads/2022/09/mimofchodem.jpg
ORGANIZER;CN="Zbyn%C4%9Bk Doubek":MAILTO:ubejka@email.cz
END:VEVENT
END:VCALENDAR